Package: pairedGSEA Version: 1.7.0 Command: rm -rf pairedGSEA.buildbin-libdir && mkdir pairedGSEA.buildbin-libdir && E:\biocbuild\bbs-3.21-bioc\R\bin\R.exe CMD INSTALL --build --library=pairedGSEA.buildbin-libdir pairedGSEA_1.7.0.tar.gz StartedAt: 2025-02-10 08:20:47 -0500 (Mon, 10 Feb 2025) EndedAt: 2025-02-10 08:21:33 -0500 (Mon, 10 Feb 2025) EllapsedTime: 45.7 seconds RetCode: 0 Status: OK PackageFile: pairedGSEA_1.7.0.zip PackageFileSize: 570.4 KiB