Package: pairedGSEA Version: 1.7.0 Command: E:\biocbuild\bbs-3.21-bioc\R\bin\R.exe CMD INSTALL pairedGSEA StartedAt: 2025-02-03 17:01:15 -0500 (Mon, 03 Feb 2025) EndedAt: 2025-02-03 17:02:04 -0500 (Mon, 03 Feb 2025) EllapsedTime: 48.9 seconds RetCode: 0 Status: OK