Package: pairkat Version: 1.13.0 Command: /home/biocbuild/bbs-3.21-bioc/R/bin/R CMD build --keep-empty-dirs --no-resave-data pairkat StartedAt: 2025-02-10 18:43:39 -0500 (Mon, 10 Feb 2025) EndedAt: 2025-02-10 18:46:14 -0500 (Mon, 10 Feb 2025) EllapsedTime: 154.2 seconds RetCode: 0 Status: OK PackageFile: pairkat_1.13.0.tar.gz PackageFileSize: 817.5 KiB