Package: pairkat Version: 1.13.0 Command: /home/biocbuild/bbs-3.21-bioc/R/bin/R CMD check --install=check:pairkat.install-out.txt --library=/home/biocbuild/bbs-3.21-bioc/R/site-library --timings pairkat_1.13.0.tar.gz StartedAt: 2025-02-11 01:14:27 -0500 (Tue, 11 Feb 2025) EndedAt: 2025-02-11 01:25:52 -0500 (Tue, 11 Feb 2025) EllapsedTime: 685.4 seconds RetCode: 0 Status: OK CheckDir: pairkat.Rcheck Warnings: 0