Package: pairkat Version: 1.13.0 Command: chmod a+r pairkat -R && E:\biocbuild\bbs-3.21-bioc\R\bin\R.exe CMD build --keep-empty-dirs --no-resave-data pairkat StartedAt: 2025-02-10 20:48:05 -0500 (Mon, 10 Feb 2025) EndedAt: 2025-02-10 20:50:31 -0500 (Mon, 10 Feb 2025) EllapsedTime: 145.3 seconds RetCode: 0 Status: OK PackageFile: pairkat_1.13.0.tar.gz PackageFileSize: 770 KiB