Package: panelcn.mops Version: 1.29.0 Command: /Library/Frameworks/R.framework/Resources/bin/R CMD build --keep-empty-dirs --no-resave-data panelcn.mops StartedAt: 2025-02-04 17:12:41 -0500 (Tue, 04 Feb 2025) EndedAt: 2025-02-04 17:12:58 -0500 (Tue, 04 Feb 2025) EllapsedTime: 17.2 seconds RetCode: 0 Status: OK PackageFile: panelcn.mops_1.29.0.tar.gz PackageFileSize: 608.5 KiB