Package: panelcn.mops Version: 1.29.0 Command: /Library/Frameworks/R.framework/Resources/bin/R CMD INSTALL panelcn.mops StartedAt: 2025-02-04 15:10:09 -0500 (Tue, 04 Feb 2025) EndedAt: 2025-02-04 15:10:15 -0500 (Tue, 04 Feb 2025) EllapsedTime: 5.6 seconds RetCode: 0 Status: OK