Package: panelcn.mops Version: 1.29.0 Command: /home/biocbuild/R/R/bin/R CMD INSTALL panelcn.mops StartedAt: 2025-01-29 19:53:12 -0000 (Wed, 29 Jan 2025) EndedAt: 2025-01-29 19:53:30 -0000 (Wed, 29 Jan 2025) EllapsedTime: 17.9 seconds RetCode: 0 Status: OK