Package: panelcn.mops Version: 1.29.0 Command: rm -rf panelcn.mops.buildbin-libdir && mkdir panelcn.mops.buildbin-libdir && /Users/biocbuild/BBS/utils/build-universal.sh panelcn.mops_1.29.0.tar.gz /Library/Frameworks/R.framework/Resources/bin/R panelcn.mops.buildbin-libdir StartedAt: 2025-02-10 01:07:32 -0500 (Mon, 10 Feb 2025) EndedAt: 2025-02-10 01:07:53 -0500 (Mon, 10 Feb 2025) EllapsedTime: 20.8 seconds RetCode: 0 Status: OK PackageFile: panelcn.mops_1.29.0.tgz PackageFileSize: 466.9 KiB