Package: panelcn.mops Version: 1.29.0 Command: /Library/Frameworks/R.framework/Resources/bin/R CMD check --install=check:panelcn.mops.install-out.txt --library=/Library/Frameworks/R.framework/Resources/library --no-vignettes --timings panelcn.mops_1.29.0.tar.gz StartedAt: 2025-02-04 22:16:33 -0500 (Tue, 04 Feb 2025) EndedAt: 2025-02-04 22:19:47 -0500 (Tue, 04 Feb 2025) EllapsedTime: 194.7 seconds RetCode: 0 Status: OK CheckDir: panelcn.mops.Rcheck Warnings: 0