Package: panelcn.mops Version: 1.29.0 Command: /home/biocbuild/bbs-3.21-bioc/R/bin/R CMD check --install=check:panelcn.mops.install-out.txt --library=/home/biocbuild/bbs-3.21-bioc/R/site-library --timings panelcn.mops_1.29.0.tar.gz StartedAt: 2025-02-10 01:07:43 -0500 (Mon, 10 Feb 2025) EndedAt: 2025-02-10 01:10:49 -0500 (Mon, 10 Feb 2025) EllapsedTime: 186.4 seconds RetCode: 0 Status: OK CheckDir: panelcn.mops.Rcheck Warnings: 0