Package: panelcn.mops Version: 1.29.0 Command: /home/biocbuild/bbs-3.21-bioc/R/bin/R CMD INSTALL panelcn.mops StartedAt: 2025-02-09 15:33:30 -0500 (Sun, 09 Feb 2025) EndedAt: 2025-02-09 15:33:43 -0500 (Sun, 09 Feb 2025) EllapsedTime: 12.9 seconds RetCode: 0 Status: OK