Package: panelcn.mops Version: 1.29.0 Command: chmod a+r panelcn.mops -R && E:\biocbuild\bbs-3.21-bioc\R\bin\R.exe CMD build --keep-empty-dirs --no-resave-data panelcn.mops StartedAt: 2025-02-09 20:35:23 -0500 (Sun, 09 Feb 2025) EndedAt: 2025-02-09 20:36:06 -0500 (Sun, 09 Feb 2025) EllapsedTime: 42.9 seconds RetCode: 0 Status: OK PackageFile: panelcn.mops_1.29.0.tar.gz PackageFileSize: 569.5 KiB