Package: panelcn.mops Version: 1.29.0 Command: E:\biocbuild\bbs-3.21-bioc\R\bin\R.exe CMD check --no-multiarch --install=check:panelcn.mops.install-out.txt --library=E:\biocbuild\bbs-3.21-bioc\R\library --no-vignettes --timings panelcn.mops_1.29.0.tar.gz StartedAt: 2025-02-05 04:20:25 -0500 (Wed, 05 Feb 2025) EndedAt: 2025-02-05 04:23:05 -0500 (Wed, 05 Feb 2025) EllapsedTime: 159.0 seconds RetCode: 0 Status: OK CheckDir: panelcn.mops.Rcheck Warnings: 0