Package: panp Version: 1.77.0 Command: rm -rf panp.buildbin-libdir && mkdir panp.buildbin-libdir && /Users/biocbuild/BBS/utils/build-universal.sh panp_1.77.0.tar.gz /Library/Frameworks/R.framework/Resources/bin/R panp.buildbin-libdir StartedAt: 2025-02-04 22:26:34 -0500 (Tue, 04 Feb 2025) EndedAt: 2025-02-04 22:26:36 -0500 (Tue, 04 Feb 2025) EllapsedTime: 2.0 seconds RetCode: 0 Status: OK PackageFile: panp_1.77.0.tgz PackageFileSize: 684.7 KiB