Package: panp Version: 1.77.0 Command: /Library/Frameworks/R.framework/Resources/bin/R CMD build --keep-empty-dirs --no-resave-data panp StartedAt: 2025-02-04 17:12:58 -0500 (Tue, 04 Feb 2025) EndedAt: 2025-02-04 17:13:08 -0500 (Tue, 04 Feb 2025) EllapsedTime: 10.1 seconds RetCode: 0 Status: OK PackageFile: panp_1.77.0.tar.gz PackageFileSize: 671.4 KiB