Package: panp Version: 1.77.0 Command: /Library/Frameworks/R.framework/Resources/bin/R CMD INSTALL panp StartedAt: 2025-02-04 15:02:24 -0500 (Tue, 04 Feb 2025) EndedAt: 2025-02-04 15:02:28 -0500 (Tue, 04 Feb 2025) EllapsedTime: 3.5 seconds RetCode: 0 Status: OK