Package: panp Version: 1.77.0 Command: rm -rf panp.buildbin-libdir && mkdir panp.buildbin-libdir && /Users/biocbuild/BBS/utils/build-universal.sh panp_1.77.0.tar.gz /Library/Frameworks/R.framework/Resources/bin/R panp.buildbin-libdir StartedAt: 2025-02-05 00:53:42 -0500 (Wed, 05 Feb 2025) EndedAt: 2025-02-05 00:53:49 -0500 (Wed, 05 Feb 2025) EllapsedTime: 7.0 seconds RetCode: 0 Status: OK PackageFile: panp_1.77.0.tgz PackageFileSize: 683.5 KiB