Package: panp Version: 1.77.0 Command: /home/biocbuild/bbs-3.21-bioc/R/bin/R CMD check --install=check:panp.install-out.txt --library=/home/biocbuild/bbs-3.21-bioc/R/site-library --timings panp_1.77.0.tar.gz StartedAt: 2025-02-05 01:16:36 -0500 (Wed, 05 Feb 2025) EndedAt: 2025-02-05 01:17:09 -0500 (Wed, 05 Feb 2025) EllapsedTime: 33.1 seconds RetCode: 0 Status: OK CheckDir: panp.Rcheck Warnings: 0