Package: panp Version: 1.77.0 Command: /home/biocbuild/bbs-3.21-bioc/R/bin/R CMD INSTALL panp StartedAt: 2025-02-04 15:11:08 -0500 (Tue, 04 Feb 2025) EndedAt: 2025-02-04 15:11:11 -0500 (Tue, 04 Feb 2025) EllapsedTime: 3.3 seconds RetCode: 0 Status: OK