Package: panp Version: 1.77.0 Command: rm -rf panp.buildbin-libdir && mkdir panp.buildbin-libdir && E:\biocbuild\bbs-3.21-bioc\R\bin\R.exe CMD INSTALL --build --library=panp.buildbin-libdir panp_1.77.0.tar.gz StartedAt: 2025-02-05 08:33:07 -0500 (Wed, 05 Feb 2025) EndedAt: 2025-02-05 08:33:13 -0500 (Wed, 05 Feb 2025) EllapsedTime: 5.4 seconds RetCode: 0 Status: OK PackageFile: panp_1.77.0.zip PackageFileSize: 529.1 KiB