Package: partCNV Version: 1.5.0 Command: /Library/Frameworks/R.framework/Resources/bin/R CMD build --keep-empty-dirs --no-resave-data partCNV StartedAt: 2025-02-12 17:12:44 -0500 (Wed, 12 Feb 2025) EndedAt: 2025-02-12 17:13:26 -0500 (Wed, 12 Feb 2025) EllapsedTime: 41.4 seconds RetCode: 0 Status: OK PackageFile: partCNV_1.5.0.tar.gz PackageFileSize: 4.652 MiB