Package: partCNV Version: 1.5.0 Command: /Library/Frameworks/R.framework/Resources/bin/R CMD check --install=check:partCNV.install-out.txt --library=/Library/Frameworks/R.framework/Resources/library --no-vignettes --timings partCNV_1.5.0.tar.gz StartedAt: 2025-02-09 22:34:17 -0500 (Sun, 09 Feb 2025) EndedAt: 2025-02-09 22:42:03 -0500 (Sun, 09 Feb 2025) EllapsedTime: 465.4 seconds RetCode: 0 Status: OK CheckDir: partCNV.Rcheck Warnings: 0