Package: partCNV Version: 1.5.0 Command: /home/biocbuild/bbs-3.21-bioc/R/bin/R CMD build --keep-empty-dirs --no-resave-data partCNV StartedAt: 2025-02-09 18:35:35 -0500 (Sun, 09 Feb 2025) EndedAt: 2025-02-09 18:37:27 -0500 (Sun, 09 Feb 2025) EllapsedTime: 112.2 seconds RetCode: 0 Status: OK PackageFile: partCNV_1.5.0.tar.gz PackageFileSize: 4.633 MiB