Package: partCNV Version: 1.5.0 Command: /home/biocbuild/bbs-3.21-bioc/R/bin/R CMD check --install=check:partCNV.install-out.txt --library=/home/biocbuild/bbs-3.21-bioc/R/site-library --timings partCNV_1.5.0.tar.gz StartedAt: 2025-02-10 01:09:41 -0500 (Mon, 10 Feb 2025) EndedAt: 2025-02-10 01:17:52 -0500 (Mon, 10 Feb 2025) EllapsedTime: 490.8 seconds RetCode: 0 Status: OK CheckDir: partCNV.Rcheck Warnings: 0