Package: partCNV Version: 1.5.0 Command: /home/biocbuild/bbs-3.21-bioc/R/bin/R CMD INSTALL partCNV StartedAt: 2025-02-09 15:26:57 -0500 (Sun, 09 Feb 2025) EndedAt: 2025-02-09 15:27:41 -0500 (Sun, 09 Feb 2025) EllapsedTime: 43.9 seconds RetCode: 0 Status: OK