Package: partCNV Version: 1.5.0 Command: rm -rf partCNV.buildbin-libdir && mkdir partCNV.buildbin-libdir && E:\biocbuild\bbs-3.21-bioc\R\bin\R.exe CMD INSTALL --build --library=partCNV.buildbin-libdir partCNV_1.5.0.tar.gz StartedAt: 2025-02-10 08:21:14 -0500 (Mon, 10 Feb 2025) EndedAt: 2025-02-10 08:22:04 -0500 (Mon, 10 Feb 2025) EllapsedTime: 50.8 seconds RetCode: 0 Status: OK PackageFile: partCNV_1.5.0.zip PackageFileSize: 4.514 MiB