Package: partCNV Version: 1.5.0 Command: chmod a+r partCNV -R && E:\biocbuild\bbs-3.21-bioc\R\bin\R.exe CMD build --keep-empty-dirs --no-resave-data partCNV StartedAt: 2025-02-09 20:36:30 -0500 (Sun, 09 Feb 2025) EndedAt: 2025-02-09 20:38:42 -0500 (Sun, 09 Feb 2025) EllapsedTime: 132.0 seconds RetCode: 0 Status: OK PackageFile: partCNV_1.5.0.tar.gz PackageFileSize: 4.492 MiB