Package: pathRender Version: 1.75.0 Command: rm -rf pathRender.buildbin-libdir && mkdir pathRender.buildbin-libdir && /Users/biocbuild/BBS/utils/build-universal.sh pathRender_1.75.0.tar.gz /Library/Frameworks/R.framework/Resources/bin/R pathRender.buildbin-libdir StartedAt: 2025-02-12 22:29:55 -0500 (Wed, 12 Feb 2025) EndedAt: 2025-02-12 22:30:01 -0500 (Wed, 12 Feb 2025) EllapsedTime: 6.1 seconds RetCode: 0 Status: OK PackageFile: pathRender_1.75.0.tgz PackageFileSize: 356.6 KiB