Package: pathRender Version: 1.75.0 Command: rm -rf pathRender.buildbin-libdir && mkdir pathRender.buildbin-libdir && /Users/biocbuild/BBS/utils/build-universal.sh pathRender_1.75.0.tar.gz /Library/Frameworks/R.framework/Resources/bin/R pathRender.buildbin-libdir StartedAt: 2025-02-13 00:50:23 -0500 (Thu, 13 Feb 2025) EndedAt: 2025-02-13 00:50:45 -0500 (Thu, 13 Feb 2025) EllapsedTime: 22.1 seconds RetCode: 0 Status: OK PackageFile: pathRender_1.75.0.tgz PackageFileSize: 355.8 KiB