Package: pathRender Version: 1.75.0 Command: /home/biocbuild/bbs-3.21-bioc/R/bin/R CMD check --install=check:pathRender.install-out.txt --library=/home/biocbuild/bbs-3.21-bioc/R/site-library --timings pathRender_1.75.0.tar.gz StartedAt: 2025-02-13 01:11:29 -0500 (Thu, 13 Feb 2025) EndedAt: 2025-02-13 01:13:47 -0500 (Thu, 13 Feb 2025) EllapsedTime: 137.2 seconds RetCode: 0 Status: OK CheckDir: pathRender.Rcheck Warnings: 0