Package: pathRender Version: 1.75.0 Command: /home/biocbuild/bbs-3.21-bioc/R/bin/R CMD INSTALL pathRender StartedAt: 2025-02-12 15:25:36 -0500 (Wed, 12 Feb 2025) EndedAt: 2025-02-12 15:25:50 -0500 (Wed, 12 Feb 2025) EllapsedTime: 13.7 seconds RetCode: 0 Status: OK