Package: pathRender Version: 1.75.0 Command: chmod a+r pathRender -R && E:\biocbuild\bbs-3.21-bioc\R\bin\R.exe CMD build --keep-empty-dirs --no-resave-data pathRender StartedAt: 2025-02-09 20:37:35 -0500 (Sun, 09 Feb 2025) EndedAt: 2025-02-09 20:38:09 -0500 (Sun, 09 Feb 2025) EllapsedTime: 34.0 seconds RetCode: 0 Status: OK PackageFile: pathRender_1.75.0.tar.gz PackageFileSize: 149 KiB