Package: pathifier Version: 1.45.0 Command: /Library/Frameworks/R.framework/Resources/bin/R CMD check --install=check:pathifier.install-out.txt --library=/Library/Frameworks/R.framework/Resources/library --no-vignettes --timings pathifier_1.45.0.tar.gz StartedAt: 2025-02-09 20:35:39 -0500 (Sun, 09 Feb 2025) EndedAt: 2025-02-09 20:35:57 -0500 (Sun, 09 Feb 2025) EllapsedTime: 18.3 seconds RetCode: 0 Status: OK CheckDir: pathifier.Rcheck Warnings: 0