Package: pathifier Version: 1.45.0 Command: /Library/Frameworks/R.framework/Resources/bin/R CMD INSTALL pathifier StartedAt: 2025-02-09 15:02:25 -0500 (Sun, 09 Feb 2025) EndedAt: 2025-02-09 15:02:32 -0500 (Sun, 09 Feb 2025) EllapsedTime: 6.4 seconds RetCode: 0 Status: OK