Package: pathifier Version: 1.45.0 Command: rm -rf pathifier.buildbin-libdir && mkdir pathifier.buildbin-libdir && /Users/biocbuild/BBS/utils/build-universal.sh pathifier_1.45.0.tar.gz /Library/Frameworks/R.framework/Resources/bin/R pathifier.buildbin-libdir StartedAt: 2025-02-10 01:07:43 -0500 (Mon, 10 Feb 2025) EndedAt: 2025-02-10 01:07:49 -0500 (Mon, 10 Feb 2025) EllapsedTime: 5.8 seconds RetCode: 0 Status: OK PackageFile: pathifier_1.45.0.tgz PackageFileSize: 2.057 MiB