Package: pathifier Version: 1.45.0 Command: /Library/Frameworks/R.framework/Resources/bin/R CMD check --install=check:pathifier.install-out.txt --library=/Library/Frameworks/R.framework/Resources/library --no-vignettes --timings pathifier_1.45.0.tar.gz StartedAt: 2025-02-03 22:20:25 -0500 (Mon, 03 Feb 2025) EndedAt: 2025-02-03 22:22:00 -0500 (Mon, 03 Feb 2025) EllapsedTime: 94.8 seconds RetCode: 0 Status: OK CheckDir: pathifier.Rcheck Warnings: 0