Package: pathifier Version: 1.45.0 Command: /Library/Frameworks/R.framework/Resources/bin/R CMD INSTALL pathifier StartedAt: 2025-02-03 15:10:57 -0500 (Mon, 03 Feb 2025) EndedAt: 2025-02-03 15:11:17 -0500 (Mon, 03 Feb 2025) EllapsedTime: 19.9 seconds RetCode: 0 Status: OK