Package: pathifier Version: 1.45.0 Command: /home/biocbuild/bbs-3.21-bioc/R/bin/R CMD build --keep-empty-dirs --no-resave-data pathifier StartedAt: 2025-02-03 18:44:30 -0500 (Mon, 03 Feb 2025) EndedAt: 2025-02-03 18:45:03 -0500 (Mon, 03 Feb 2025) EllapsedTime: 33.1 seconds RetCode: 0 Status: OK PackageFile: pathifier_1.45.0.tar.gz PackageFileSize: 2.033 MiB