Package: pathifier Version: 1.45.0 Command: /home/biocbuild/bbs-3.21-bioc/R/bin/R CMD check --install=check:pathifier.install-out.txt --library=/home/biocbuild/bbs-3.21-bioc/R/site-library --timings pathifier_1.45.0.tar.gz StartedAt: 2025-02-10 01:10:36 -0500 (Mon, 10 Feb 2025) EndedAt: 2025-02-10 01:11:58 -0500 (Mon, 10 Feb 2025) EllapsedTime: 82.2 seconds RetCode: 0 Status: OK CheckDir: pathifier.Rcheck Warnings: 0