Package: pathifier Version: 1.45.0 Command: rm -rf pathifier.buildbin-libdir && mkdir pathifier.buildbin-libdir && E:\biocbuild\bbs-3.21-bioc\R\bin\R.exe CMD INSTALL --build --library=pathifier.buildbin-libdir pathifier_1.45.0.tar.gz StartedAt: 2025-02-10 08:21:18 -0500 (Mon, 10 Feb 2025) EndedAt: 2025-02-10 08:21:28 -0500 (Mon, 10 Feb 2025) EllapsedTime: 10.2 seconds RetCode: 0 Status: OK PackageFile: pathifier_1.45.0.zip PackageFileSize: 1.935 MiB