Package: pathifier Version: 1.45.0 Command: E:\biocbuild\bbs-3.21-bioc\R\bin\R.exe CMD check --no-multiarch --install=check:pathifier.install-out.txt --library=E:\biocbuild\bbs-3.21-bioc\R\library --no-vignettes --timings pathifier_1.45.0.tar.gz StartedAt: 2025-02-10 03:56:47 -0500 (Mon, 10 Feb 2025) EndedAt: 2025-02-10 03:57:46 -0500 (Mon, 10 Feb 2025) EllapsedTime: 59.5 seconds RetCode: 0 Status: OK CheckDir: pathifier.Rcheck Warnings: 0