Package: pathwayPCA Version: 1.23.0 Command: rm -rf pathwayPCA.buildbin-libdir && mkdir pathwayPCA.buildbin-libdir && /Users/biocbuild/BBS/utils/build-universal.sh pathwayPCA_1.23.0.tar.gz /Library/Frameworks/R.framework/Resources/bin/R pathwayPCA.buildbin-libdir StartedAt: 2025-02-13 00:50:23 -0500 (Thu, 13 Feb 2025) EndedAt: 2025-02-13 00:50:38 -0500 (Thu, 13 Feb 2025) EllapsedTime: 15.1 seconds RetCode: 0 Status: OK PackageFile: pathwayPCA_1.23.0.tgz PackageFileSize: 3.434 MiB