Package: pathwayPCA Version: 1.23.0 Command: /Library/Frameworks/R.framework/Resources/bin/R CMD build --keep-empty-dirs --no-resave-data pathwayPCA StartedAt: 2025-02-09 17:54:13 -0500 (Sun, 09 Feb 2025) EndedAt: 2025-02-09 17:57:36 -0500 (Sun, 09 Feb 2025) EllapsedTime: 203.1 seconds RetCode: 0 Status: OK PackageFile: pathwayPCA_1.23.0.tar.gz PackageFileSize: 3.476 MiB