Package: pathwayPCA Version: 1.23.0 Command: /home/biocbuild/bbs-3.21-bioc/R/bin/R CMD check --install=check:pathwayPCA.install-out.txt --library=/home/biocbuild/bbs-3.21-bioc/R/site-library --timings pathwayPCA_1.23.0.tar.gz StartedAt: 2025-02-10 01:11:27 -0500 (Mon, 10 Feb 2025) EndedAt: 2025-02-10 01:16:21 -0500 (Mon, 10 Feb 2025) EllapsedTime: 293.4 seconds RetCode: 0 Status: OK CheckDir: pathwayPCA.Rcheck Warnings: 0