Package: pathwayPCA Version: 1.23.0 Command: /home/biocbuild/bbs-3.21-bioc/R/bin/R CMD INSTALL pathwayPCA StartedAt: 2025-02-12 15:06:04 -0500 (Wed, 12 Feb 2025) EndedAt: 2025-02-12 15:06:19 -0500 (Wed, 12 Feb 2025) EllapsedTime: 14.6 seconds RetCode: 0 Status: OK