Package: pathwayPCA Version: 1.23.0 Command: rm -rf pathwayPCA.buildbin-libdir && mkdir pathwayPCA.buildbin-libdir && E:\biocbuild\bbs-3.21-bioc\R\bin\R.exe CMD INSTALL --build --library=pathwayPCA.buildbin-libdir pathwayPCA_1.23.0.tar.gz StartedAt: 2025-02-10 08:21:27 -0500 (Mon, 10 Feb 2025) EndedAt: 2025-02-10 08:22:40 -0500 (Mon, 10 Feb 2025) EllapsedTime: 73.5 seconds RetCode: 0 Status: OK PackageFile: pathwayPCA_1.23.0.zip PackageFileSize: 2.82 MiB