Package: pathwayPCA Version: 1.23.0 Command: E:\biocbuild\bbs-3.21-bioc\R\bin\R.exe CMD INSTALL pathwayPCA StartedAt: 2025-02-09 16:02:35 -0500 (Sun, 09 Feb 2025) EndedAt: 2025-02-09 16:03:58 -0500 (Sun, 09 Feb 2025) EllapsedTime: 82.6 seconds RetCode: 0 Status: OK