Package: pcaExplorer Version: 3.1.1 Command: /home/biocbuild/R/R/bin/R CMD build --keep-empty-dirs --no-resave-data pcaExplorer StartedAt: 2025-01-29 01:12:23 -0000 (Wed, 29 Jan 2025) EndedAt: 2025-01-29 01:15:18 -0000 (Wed, 29 Jan 2025) EllapsedTime: 175.2 seconds RetCode: 0 Status: OK PackageFile: pcaExplorer_3.1.1.tar.gz PackageFileSize: 9.717 MiB