Package: pcaExplorer Version: 3.1.1 Command: /home/biocbuild/R/R/bin/R CMD check --install=check:pcaExplorer.install-out.txt --library=/home/biocbuild/R/R/site-library --no-vignettes --timings pcaExplorer_3.1.1.tar.gz StartedAt: 2025-01-28 13:46:14 -0000 (Tue, 28 Jan 2025) EndedAt: 2025-01-28 13:58:32 -0000 (Tue, 28 Jan 2025) EllapsedTime: 737.8 seconds RetCode: 0 Status: WARNINGS CheckDir: pcaExplorer.Rcheck Warnings: 5